BEGIN:VCALENDAR
VERSION:2.0
PRODID:-//Office of Healthcare Equity - ECPv6.15.7//NONSGML v1.0//EN
CALSCALE:GREGORIAN
METHOD:PUBLISH
X-ORIGINAL-URL:https://equity.uwmedicine.org
X-WR-CALDESC:Events for Office of Healthcare Equity
REFRESH-INTERVAL;VALUE=DURATION:PT1H
X-Robots-Tag:noindex
X-PUBLISHED-TTL:PT1H
BEGIN:VTIMEZONE
TZID:America/Los_Angeles
BEGIN:DAYLIGHT
TZOFFSETFROM:-0800
TZOFFSETTO:-0700
TZNAME:PDT
DTSTART:20250309T100000
END:DAYLIGHT
BEGIN:STANDARD
TZOFFSETFROM:-0700
TZOFFSETTO:-0800
TZNAME:PST
DTSTART:20251102T090000
END:STANDARD
BEGIN:DAYLIGHT
TZOFFSETFROM:-0800
TZOFFSETTO:-0700
TZNAME:PDT
DTSTART:20260308T100000
END:DAYLIGHT
BEGIN:STANDARD
TZOFFSETFROM:-0700
TZOFFSETTO:-0800
TZNAME:PST
DTSTART:20261101T090000
END:STANDARD
BEGIN:DAYLIGHT
TZOFFSETFROM:-0800
TZOFFSETTO:-0700
TZNAME:PDT
DTSTART:20270314T100000
END:DAYLIGHT
BEGIN:STANDARD
TZOFFSETFROM:-0700
TZOFFSETTO:-0800
TZNAME:PST
DTSTART:20271107T090000
END:STANDARD
END:VTIMEZONE
BEGIN:VEVENT
DTSTART;TZID=America/Los_Angeles:20260207T110000
DTEND;TZID=America/Los_Angeles:20260207T130000
DTSTAMP:20260421T105532
CREATED:20251106T015653Z
LAST-MODIFIED:20251106T015658Z
UID:10001214-1770462000-1770469200@equity.uwmedicine.org
SUMMARY:United for Wellness - A Brunch to Bridge the Gap
DESCRIPTION:Join African Americans Reach & Teach Health Ministry at their ‘United for Wellness’ brunch.
URL:https://equity.uwmedicine.org/event/united-for-wellness-a-brunch-to-bridge-the-gap/
LOCATION:Archer Hotel\, 7200 164th Avenue NE\, Redmond\, Washington\, 98052
ATTACH;FMTTYPE=image/jpeg:https://equity.uwmedicine.org/wp-content/uploads/2025/11/2026-Fundraiser-Updates-joTFORM.68c49958618352.04920957.jpg
END:VEVENT
END:VCALENDAR